BEGIN:VCALENDAR
VERSION:2.0
PRODID:-//Writing Politics//NONSGML Events//EN
CALSCALE:GREGORIAN
X-WR-CALNAME:Writing Politics - Events
X-ORIGINAL-URL:https://openlabdev.commonsinabox.org/groups/writing-politics-sp2018-pol345/events/
X-WR-CALDESC:Writing Politics - Events
BEGIN:VEVENT
UID:20200305T2204Z-1583445872.0572-EO-2015-1@146.96.128.200
STATUS:CONFIRMED
DTSTAMP:20260424T125631Z
CREATED:20200229T183538Z
LAST-MODIFIED:20200229T183606Z
DTSTART:20200229T190000Z
DTEND:20200229T200000Z
RRULE:FREQ=WEEKLY;INTERVAL=1;BYDAY=SA;UNTIL=20200425T190000Z
SUMMARY: Event 2
X-ALT-DESC;FMTTYPE=text/html: 
ORGANIZER;CN="Professor Tesla":MAILTO:cbox.openlab.test+testfaculty@gmail.c
 om
URL;VALUE=URI:https://openlabdev.commonsinabox.org/events/event/event-2/
END:VEVENT
BEGIN:VEVENT
UID:20200305T2204Z-1583445872.0719-EO-2014-1@146.96.128.200
STATUS:CONFIRMED
DTSTAMP:20260424T125631Z
CREATED:20200229T183430Z
LAST-MODIFIED:20200229T183430Z
DTSTART:20200302T140000Z
DTEND:20200302T150000Z
RRULE:FREQ=WEEKLY;INTERVAL=1;BYDAY=MO;UNTIL=20200525T140000Z
SUMMARY: Recurring event
DESCRIPTION: asdf
X-ALT-DESC;FMTTYPE=text/html: <p>asdf</p>
ORGANIZER;CN="Professor Tesla":MAILTO:cbox.openlab.test+testfaculty@gmail.c
 om
URL;VALUE=URI:https://openlabdev.commonsinabox.org/events/event/recurring-e
 vent-3/
END:VEVENT
BEGIN:VEVENT
UID:20200305T2204Z-1583445872.0572-EO-2015-1@146.96.128.200
STATUS:CONFIRMED
DTSTAMP:20260424T125631Z
CREATED:20200229T183538Z
LAST-MODIFIED:20200229T183606Z
DTSTART:20200229T190000Z
DTEND:20200229T200000Z
RRULE:FREQ=WEEKLY;INTERVAL=1;BYDAY=SA;UNTIL=20200425T190000Z
SUMMARY: Event 2
X-ALT-DESC;FMTTYPE=text/html: 
ORGANIZER;CN="Professor Tesla":MAILTO:cbox.openlab.test+testfaculty@gmail.c
 om
URL;VALUE=URI:https://openlabdev.commonsinabox.org/events/event/event-2/
END:VEVENT
BEGIN:VEVENT
UID:20200305T2204Z-1583445872.0719-EO-2014-1@146.96.128.200
STATUS:CONFIRMED
DTSTAMP:20260424T125631Z
CREATED:20200229T183430Z
LAST-MODIFIED:20200229T183430Z
DTSTART:20200302T140000Z
DTEND:20200302T150000Z
RRULE:FREQ=WEEKLY;INTERVAL=1;BYDAY=MO;UNTIL=20200525T140000Z
SUMMARY: Recurring event
DESCRIPTION: asdf
X-ALT-DESC;FMTTYPE=text/html: <p>asdf</p>
ORGANIZER;CN="Professor Tesla":MAILTO:cbox.openlab.test+testfaculty@gmail.c
 om
URL;VALUE=URI:https://openlabdev.commonsinabox.org/events/event/recurring-e
 vent-3/
END:VEVENT
BEGIN:VEVENT
UID:20200305T2204Z-1583445872.0572-EO-2015-1@146.96.128.200
STATUS:CONFIRMED
DTSTAMP:20260424T125631Z
CREATED:20200229T183538Z
LAST-MODIFIED:20200229T183606Z
DTSTART:20200229T190000Z
DTEND:20200229T200000Z
RRULE:FREQ=WEEKLY;INTERVAL=1;BYDAY=SA;UNTIL=20200425T190000Z
SUMMARY: Event 2
X-ALT-DESC;FMTTYPE=text/html: 
ORGANIZER;CN="Professor Tesla":MAILTO:cbox.openlab.test+testfaculty@gmail.c
 om
URL;VALUE=URI:https://openlabdev.commonsinabox.org/events/event/event-2/
END:VEVENT
BEGIN:VEVENT
UID:20200305T2204Z-1583445872.0719-EO-2014-1@146.96.128.200
STATUS:CONFIRMED
DTSTAMP:20260424T125631Z
CREATED:20200229T183430Z
LAST-MODIFIED:20200229T183430Z
DTSTART:20200302T140000Z
DTEND:20200302T150000Z
RRULE:FREQ=WEEKLY;INTERVAL=1;BYDAY=MO;UNTIL=20200525T140000Z
SUMMARY: Recurring event
DESCRIPTION: asdf
X-ALT-DESC;FMTTYPE=text/html: <p>asdf</p>
ORGANIZER;CN="Professor Tesla":MAILTO:cbox.openlab.test+testfaculty@gmail.c
 om
URL;VALUE=URI:https://openlabdev.commonsinabox.org/events/event/recurring-e
 vent-3/
END:VEVENT
BEGIN:VEVENT
UID:20200305T2204Z-1583445872.0572-EO-2015-1@146.96.128.200
STATUS:CONFIRMED
DTSTAMP:20260424T125631Z
CREATED:20200229T183538Z
LAST-MODIFIED:20200229T183606Z
DTSTART:20200229T190000Z
DTEND:20200229T200000Z
RRULE:FREQ=WEEKLY;INTERVAL=1;BYDAY=SA;UNTIL=20200425T190000Z
SUMMARY: Event 2
X-ALT-DESC;FMTTYPE=text/html: 
ORGANIZER;CN="Professor Tesla":MAILTO:cbox.openlab.test+testfaculty@gmail.c
 om
URL;VALUE=URI:https://openlabdev.commonsinabox.org/events/event/event-2/
END:VEVENT
BEGIN:VEVENT
UID:20200305T2204Z-1583445872.0719-EO-2014-1@146.96.128.200
STATUS:CONFIRMED
DTSTAMP:20260424T125631Z
CREATED:20200229T183430Z
LAST-MODIFIED:20200229T183430Z
DTSTART:20200302T140000Z
DTEND:20200302T150000Z
RRULE:FREQ=WEEKLY;INTERVAL=1;BYDAY=MO;UNTIL=20200525T140000Z
SUMMARY: Recurring event
DESCRIPTION: asdf
X-ALT-DESC;FMTTYPE=text/html: <p>asdf</p>
ORGANIZER;CN="Professor Tesla":MAILTO:cbox.openlab.test+testfaculty@gmail.c
 om
URL;VALUE=URI:https://openlabdev.commonsinabox.org/events/event/recurring-e
 vent-3/
END:VEVENT
BEGIN:VEVENT
UID:20200305T2204Z-1583445872.0572-EO-2015-1@146.96.128.200
STATUS:CONFIRMED
DTSTAMP:20260424T125631Z
CREATED:20200229T183538Z
LAST-MODIFIED:20200229T183606Z
DTSTART:20200229T190000Z
DTEND:20200229T200000Z
RRULE:FREQ=WEEKLY;INTERVAL=1;BYDAY=SA;UNTIL=20200425T190000Z
SUMMARY: Event 2
X-ALT-DESC;FMTTYPE=text/html: 
ORGANIZER;CN="Professor Tesla":MAILTO:cbox.openlab.test+testfaculty@gmail.c
 om
URL;VALUE=URI:https://openlabdev.commonsinabox.org/events/event/event-2/
END:VEVENT
BEGIN:VEVENT
UID:20200305T2204Z-1583445872.0719-EO-2014-1@146.96.128.200
STATUS:CONFIRMED
DTSTAMP:20260424T125631Z
CREATED:20200229T183430Z
LAST-MODIFIED:20200229T183430Z
DTSTART:20200302T140000Z
DTEND:20200302T150000Z
RRULE:FREQ=WEEKLY;INTERVAL=1;BYDAY=MO;UNTIL=20200525T140000Z
SUMMARY: Recurring event
DESCRIPTION: asdf
X-ALT-DESC;FMTTYPE=text/html: <p>asdf</p>
ORGANIZER;CN="Professor Tesla":MAILTO:cbox.openlab.test+testfaculty@gmail.c
 om
URL;VALUE=URI:https://openlabdev.commonsinabox.org/events/event/recurring-e
 vent-3/
END:VEVENT
BEGIN:VEVENT
UID:20200305T2204Z-1583445872.0572-EO-2015-1@146.96.128.200
STATUS:CONFIRMED
DTSTAMP:20260424T125631Z
CREATED:20200229T183538Z
LAST-MODIFIED:20200229T183606Z
DTSTART:20200229T190000Z
DTEND:20200229T200000Z
RRULE:FREQ=WEEKLY;INTERVAL=1;BYDAY=SA;UNTIL=20200425T190000Z
SUMMARY: Event 2
X-ALT-DESC;FMTTYPE=text/html: 
ORGANIZER;CN="Professor Tesla":MAILTO:cbox.openlab.test+testfaculty@gmail.c
 om
URL;VALUE=URI:https://openlabdev.commonsinabox.org/events/event/event-2/
END:VEVENT
BEGIN:VEVENT
UID:20200305T2204Z-1583445872.0719-EO-2014-1@146.96.128.200
STATUS:CONFIRMED
DTSTAMP:20260424T125631Z
CREATED:20200229T183430Z
LAST-MODIFIED:20200229T183430Z
DTSTART:20200302T140000Z
DTEND:20200302T150000Z
RRULE:FREQ=WEEKLY;INTERVAL=1;BYDAY=MO;UNTIL=20200525T140000Z
SUMMARY: Recurring event
DESCRIPTION: asdf
X-ALT-DESC;FMTTYPE=text/html: <p>asdf</p>
ORGANIZER;CN="Professor Tesla":MAILTO:cbox.openlab.test+testfaculty@gmail.c
 om
URL;VALUE=URI:https://openlabdev.commonsinabox.org/events/event/recurring-e
 vent-3/
END:VEVENT
BEGIN:VEVENT
UID:20200305T2204Z-1583445872.0572-EO-2015-1@146.96.128.200
STATUS:CONFIRMED
DTSTAMP:20260424T125631Z
CREATED:20200229T183538Z
LAST-MODIFIED:20200229T183606Z
DTSTART:20200229T190000Z
DTEND:20200229T200000Z
RRULE:FREQ=WEEKLY;INTERVAL=1;BYDAY=SA;UNTIL=20200425T190000Z
SUMMARY: Event 2
X-ALT-DESC;FMTTYPE=text/html: 
ORGANIZER;CN="Professor Tesla":MAILTO:cbox.openlab.test+testfaculty@gmail.c
 om
URL;VALUE=URI:https://openlabdev.commonsinabox.org/events/event/event-2/
END:VEVENT
BEGIN:VEVENT
UID:20200305T2204Z-1583445872.0719-EO-2014-1@146.96.128.200
STATUS:CONFIRMED
DTSTAMP:20260424T125631Z
CREATED:20200229T183430Z
LAST-MODIFIED:20200229T183430Z
DTSTART:20200302T140000Z
DTEND:20200302T150000Z
RRULE:FREQ=WEEKLY;INTERVAL=1;BYDAY=MO;UNTIL=20200525T140000Z
SUMMARY: Recurring event
DESCRIPTION: asdf
X-ALT-DESC;FMTTYPE=text/html: <p>asdf</p>
ORGANIZER;CN="Professor Tesla":MAILTO:cbox.openlab.test+testfaculty@gmail.c
 om
URL;VALUE=URI:https://openlabdev.commonsinabox.org/events/event/recurring-e
 vent-3/
END:VEVENT
BEGIN:VEVENT
UID:20200305T2204Z-1583445872.0572-EO-2015-1@146.96.128.200
STATUS:CONFIRMED
DTSTAMP:20260424T125631Z
CREATED:20200229T183538Z
LAST-MODIFIED:20200229T183606Z
DTSTART:20200229T190000Z
DTEND:20200229T200000Z
RRULE:FREQ=WEEKLY;INTERVAL=1;BYDAY=SA;UNTIL=20200425T190000Z
SUMMARY: Event 2
X-ALT-DESC;FMTTYPE=text/html: 
ORGANIZER;CN="Professor Tesla":MAILTO:cbox.openlab.test+testfaculty@gmail.c
 om
URL;VALUE=URI:https://openlabdev.commonsinabox.org/events/event/event-2/
END:VEVENT
BEGIN:VEVENT
UID:20200305T2204Z-1583445872.0719-EO-2014-1@146.96.128.200
STATUS:CONFIRMED
DTSTAMP:20260424T125631Z
CREATED:20200229T183430Z
LAST-MODIFIED:20200229T183430Z
DTSTART:20200302T140000Z
DTEND:20200302T150000Z
RRULE:FREQ=WEEKLY;INTERVAL=1;BYDAY=MO;UNTIL=20200525T140000Z
SUMMARY: Recurring event
DESCRIPTION: asdf
X-ALT-DESC;FMTTYPE=text/html: <p>asdf</p>
ORGANIZER;CN="Professor Tesla":MAILTO:cbox.openlab.test+testfaculty@gmail.c
 om
URL;VALUE=URI:https://openlabdev.commonsinabox.org/events/event/recurring-e
 vent-3/
END:VEVENT
BEGIN:VEVENT
UID:20200305T2204Z-1583445872.0572-EO-2015-1@146.96.128.200
STATUS:CONFIRMED
DTSTAMP:20260424T125631Z
CREATED:20200229T183538Z
LAST-MODIFIED:20200229T183606Z
DTSTART:20200229T190000Z
DTEND:20200229T200000Z
RRULE:FREQ=WEEKLY;INTERVAL=1;BYDAY=SA;UNTIL=20200425T190000Z
SUMMARY: Event 2
X-ALT-DESC;FMTTYPE=text/html: 
ORGANIZER;CN="Professor Tesla":MAILTO:cbox.openlab.test+testfaculty@gmail.c
 om
URL;VALUE=URI:https://openlabdev.commonsinabox.org/events/event/event-2/
END:VEVENT
BEGIN:VEVENT
UID:20200305T2204Z-1583445872.0719-EO-2014-1@146.96.128.200
STATUS:CONFIRMED
DTSTAMP:20260424T125631Z
CREATED:20200229T183430Z
LAST-MODIFIED:20200229T183430Z
DTSTART:20200302T140000Z
DTEND:20200302T150000Z
RRULE:FREQ=WEEKLY;INTERVAL=1;BYDAY=MO;UNTIL=20200525T140000Z
SUMMARY: Recurring event
DESCRIPTION: asdf
X-ALT-DESC;FMTTYPE=text/html: <p>asdf</p>
ORGANIZER;CN="Professor Tesla":MAILTO:cbox.openlab.test+testfaculty@gmail.c
 om
URL;VALUE=URI:https://openlabdev.commonsinabox.org/events/event/recurring-e
 vent-3/
END:VEVENT
BEGIN:VEVENT
UID:20200305T2204Z-1583445872.0719-EO-2014-1@146.96.128.200
STATUS:CONFIRMED
DTSTAMP:20260424T125631Z
CREATED:20200229T183430Z
LAST-MODIFIED:20200229T183430Z
DTSTART:20200302T140000Z
DTEND:20200302T150000Z
RRULE:FREQ=WEEKLY;INTERVAL=1;BYDAY=MO;UNTIL=20200525T140000Z
SUMMARY: Recurring event
DESCRIPTION: asdf
X-ALT-DESC;FMTTYPE=text/html: <p>asdf</p>
ORGANIZER;CN="Professor Tesla":MAILTO:cbox.openlab.test+testfaculty@gmail.c
 om
URL;VALUE=URI:https://openlabdev.commonsinabox.org/events/event/recurring-e
 vent-3/
END:VEVENT
BEGIN:VEVENT
UID:20200305T2204Z-1583445872.0719-EO-2014-1@146.96.128.200
STATUS:CONFIRMED
DTSTAMP:20260424T125631Z
CREATED:20200229T183430Z
LAST-MODIFIED:20200229T183430Z
DTSTART:20200302T140000Z
DTEND:20200302T150000Z
RRULE:FREQ=WEEKLY;INTERVAL=1;BYDAY=MO;UNTIL=20200525T140000Z
SUMMARY: Recurring event
DESCRIPTION: asdf
X-ALT-DESC;FMTTYPE=text/html: <p>asdf</p>
ORGANIZER;CN="Professor Tesla":MAILTO:cbox.openlab.test+testfaculty@gmail.c
 om
URL;VALUE=URI:https://openlabdev.commonsinabox.org/events/event/recurring-e
 vent-3/
END:VEVENT
BEGIN:VEVENT
UID:20200305T2204Z-1583445872.0719-EO-2014-1@146.96.128.200
STATUS:CONFIRMED
DTSTAMP:20260424T125631Z
CREATED:20200229T183430Z
LAST-MODIFIED:20200229T183430Z
DTSTART:20200302T140000Z
DTEND:20200302T150000Z
RRULE:FREQ=WEEKLY;INTERVAL=1;BYDAY=MO;UNTIL=20200525T140000Z
SUMMARY: Recurring event
DESCRIPTION: asdf
X-ALT-DESC;FMTTYPE=text/html: <p>asdf</p>
ORGANIZER;CN="Professor Tesla":MAILTO:cbox.openlab.test+testfaculty@gmail.c
 om
URL;VALUE=URI:https://openlabdev.commonsinabox.org/events/event/recurring-e
 vent-3/
END:VEVENT
BEGIN:VEVENT
UID:20200305T2204Z-1583445872.0719-EO-2014-1@146.96.128.200
STATUS:CONFIRMED
DTSTAMP:20260424T125631Z
CREATED:20200229T183430Z
LAST-MODIFIED:20200229T183430Z
DTSTART:20200302T140000Z
DTEND:20200302T150000Z
RRULE:FREQ=WEEKLY;INTERVAL=1;BYDAY=MO;UNTIL=20200525T140000Z
SUMMARY: Recurring event
DESCRIPTION: asdf
X-ALT-DESC;FMTTYPE=text/html: <p>asdf</p>
ORGANIZER;CN="Professor Tesla":MAILTO:cbox.openlab.test+testfaculty@gmail.c
 om
URL;VALUE=URI:https://openlabdev.commonsinabox.org/events/event/recurring-e
 vent-3/
END:VEVENT
END:VCALENDAR
