BEGIN:VCALENDAR
VERSION:2.0
PRODID:-//Studying American social patterns//NONSGML Events//EN
CALSCALE:GREGORIAN
X-WR-CALNAME:Studying American social patterns - Events
X-ORIGINAL-URL:https://openlabdev.commonsinabox.org/groups/studying-american-social-patterns/events/
X-WR-CALDESC:Studying American social patterns - Events
BEGIN:VEVENT
UID:20210116T1729Z-1610818192.9875-EO-68884-1@146.96.128.200
STATUS:CONFIRMED
DTSTAMP:20260424T125331Z
CREATED:20210116T172742Z
LAST-MODIFIED:20210116T172742Z
DTSTART:20210116T173000Z
DTEND:20210116T183000Z
RRULE:FREQ=WEEKLY;INTERVAL=1;BYDAY=SA;UNTIL=20210306T173000Z
SUMMARY: This is a recurring event
DESCRIPTION: Testing\, testing…
X-ALT-DESC;FMTTYPE=text/html: <p>Testing\, testing...</p>
LOCATION:Main Room
GEO:0;0
ORGANIZER;CN="Professor Tesla":MAILTO:cbox.openlab.test+testfaculty@gmail.c
 om
URL;VALUE=URI:https://openlabdev.commonsinabox.org/events/event/this-is-a-r
 ecurring-event/
END:VEVENT
BEGIN:VEVENT
UID:20210116T1729Z-1610818192.9875-EO-68884-1@146.96.128.200
STATUS:CONFIRMED
DTSTAMP:20260424T125331Z
CREATED:20210116T172742Z
LAST-MODIFIED:20210116T172742Z
DTSTART:20210116T173000Z
DTEND:20210116T183000Z
RRULE:FREQ=WEEKLY;INTERVAL=1;BYDAY=SA;UNTIL=20210306T173000Z
SUMMARY: This is a recurring event
DESCRIPTION: Testing\, testing…
X-ALT-DESC;FMTTYPE=text/html: <p>Testing\, testing...</p>
LOCATION:Main Room
GEO:0;0
ORGANIZER;CN="Professor Tesla":MAILTO:cbox.openlab.test+testfaculty@gmail.c
 om
URL;VALUE=URI:https://openlabdev.commonsinabox.org/events/event/this-is-a-r
 ecurring-event/
END:VEVENT
BEGIN:VEVENT
UID:20210116T1729Z-1610818192.9875-EO-68884-1@146.96.128.200
STATUS:CONFIRMED
DTSTAMP:20260424T125331Z
CREATED:20210116T172742Z
LAST-MODIFIED:20210116T172742Z
DTSTART:20210116T173000Z
DTEND:20210116T183000Z
RRULE:FREQ=WEEKLY;INTERVAL=1;BYDAY=SA;UNTIL=20210306T173000Z
SUMMARY: This is a recurring event
DESCRIPTION: Testing\, testing…
X-ALT-DESC;FMTTYPE=text/html: <p>Testing\, testing...</p>
LOCATION:Main Room
GEO:0;0
ORGANIZER;CN="Professor Tesla":MAILTO:cbox.openlab.test+testfaculty@gmail.c
 om
URL;VALUE=URI:https://openlabdev.commonsinabox.org/events/event/this-is-a-r
 ecurring-event/
END:VEVENT
BEGIN:VEVENT
UID:20210116T1729Z-1610818192.9875-EO-68884-1@146.96.128.200
STATUS:CONFIRMED
DTSTAMP:20260424T125331Z
CREATED:20210116T172742Z
LAST-MODIFIED:20210116T172742Z
DTSTART:20210116T173000Z
DTEND:20210116T183000Z
RRULE:FREQ=WEEKLY;INTERVAL=1;BYDAY=SA;UNTIL=20210306T173000Z
SUMMARY: This is a recurring event
DESCRIPTION: Testing\, testing…
X-ALT-DESC;FMTTYPE=text/html: <p>Testing\, testing...</p>
LOCATION:Main Room
GEO:0;0
ORGANIZER;CN="Professor Tesla":MAILTO:cbox.openlab.test+testfaculty@gmail.c
 om
URL;VALUE=URI:https://openlabdev.commonsinabox.org/events/event/this-is-a-r
 ecurring-event/
END:VEVENT
BEGIN:VEVENT
UID:20210116T1729Z-1610818192.9875-EO-68884-1@146.96.128.200
STATUS:CONFIRMED
DTSTAMP:20260424T125331Z
CREATED:20210116T172742Z
LAST-MODIFIED:20210116T172742Z
DTSTART:20210116T173000Z
DTEND:20210116T183000Z
RRULE:FREQ=WEEKLY;INTERVAL=1;BYDAY=SA;UNTIL=20210306T173000Z
SUMMARY: This is a recurring event
DESCRIPTION: Testing\, testing…
X-ALT-DESC;FMTTYPE=text/html: <p>Testing\, testing...</p>
LOCATION:Main Room
GEO:0;0
ORGANIZER;CN="Professor Tesla":MAILTO:cbox.openlab.test+testfaculty@gmail.c
 om
URL;VALUE=URI:https://openlabdev.commonsinabox.org/events/event/this-is-a-r
 ecurring-event/
END:VEVENT
BEGIN:VEVENT
UID:20210116T1729Z-1610818192.9875-EO-68884-1@146.96.128.200
STATUS:CONFIRMED
DTSTAMP:20260424T125331Z
CREATED:20210116T172742Z
LAST-MODIFIED:20210116T172742Z
DTSTART:20210116T173000Z
DTEND:20210116T183000Z
RRULE:FREQ=WEEKLY;INTERVAL=1;BYDAY=SA;UNTIL=20210306T173000Z
SUMMARY: This is a recurring event
DESCRIPTION: Testing\, testing…
X-ALT-DESC;FMTTYPE=text/html: <p>Testing\, testing...</p>
LOCATION:Main Room
GEO:0;0
ORGANIZER;CN="Professor Tesla":MAILTO:cbox.openlab.test+testfaculty@gmail.c
 om
URL;VALUE=URI:https://openlabdev.commonsinabox.org/events/event/this-is-a-r
 ecurring-event/
END:VEVENT
BEGIN:VEVENT
UID:20210116T1729Z-1610818192.9875-EO-68884-1@146.96.128.200
STATUS:CONFIRMED
DTSTAMP:20260424T125331Z
CREATED:20210116T172742Z
LAST-MODIFIED:20210116T172742Z
DTSTART:20210116T173000Z
DTEND:20210116T183000Z
RRULE:FREQ=WEEKLY;INTERVAL=1;BYDAY=SA;UNTIL=20210306T173000Z
SUMMARY: This is a recurring event
DESCRIPTION: Testing\, testing…
X-ALT-DESC;FMTTYPE=text/html: <p>Testing\, testing...</p>
LOCATION:Main Room
GEO:0;0
ORGANIZER;CN="Professor Tesla":MAILTO:cbox.openlab.test+testfaculty@gmail.c
 om
URL;VALUE=URI:https://openlabdev.commonsinabox.org/events/event/this-is-a-r
 ecurring-event/
END:VEVENT
BEGIN:VEVENT
UID:20210116T1729Z-1610818192.9875-EO-68884-1@146.96.128.200
STATUS:CONFIRMED
DTSTAMP:20260424T125331Z
CREATED:20210116T172742Z
LAST-MODIFIED:20210116T172742Z
DTSTART:20210116T173000Z
DTEND:20210116T183000Z
RRULE:FREQ=WEEKLY;INTERVAL=1;BYDAY=SA;UNTIL=20210306T173000Z
SUMMARY: This is a recurring event
DESCRIPTION: Testing\, testing…
X-ALT-DESC;FMTTYPE=text/html: <p>Testing\, testing...</p>
LOCATION:Main Room
GEO:0;0
ORGANIZER;CN="Professor Tesla":MAILTO:cbox.openlab.test+testfaculty@gmail.c
 om
URL;VALUE=URI:https://openlabdev.commonsinabox.org/events/event/this-is-a-r
 ecurring-event/
END:VEVENT
END:VCALENDAR
