BEGIN:VCALENDAR
VERSION:2.0
PRODID:-//Software Development 101//NONSGML Events//EN
CALSCALE:GREGORIAN
X-WR-CALNAME:Software Development 101 - Events
X-ORIGINAL-URL:https://openlabdev.commonsinabox.org/groups/software-development-101/events/
X-WR-CALDESC:Software Development 101 - Events
BEGIN:VEVENT
UID:20190212T0228Z-1549938511.2253-EO-1907-1@146.96.128.200
STATUS:CONFIRMED
DTSTAMP:20260421T123624Z
CREATED:20190205T230234Z
LAST-MODIFIED:20190205T230234Z
DTSTART:20190205T233000Z
DTEND:20190206T003000Z
SUMMARY: test event
DESCRIPTION: test
X-ALT-DESC;FMTTYPE=text/html: <p>test</p>
LOCATION:CUNY Graduate Center
GEO:40.748579;-73.983878
ORGANIZER;CN="Alexander Trelawney":MAILTO:boonebgorges+openlabdev_admin@gma
 il.com
URL;VALUE=URI:https://openlabdev.commonsinabox.org/events/event/test-event-
 2/
END:VEVENT
END:VCALENDAR
