BEGIN:VCALENDAR
VERSION:2.0
PRODID:-//POL 300b – On Post-Transhumanism//NONSGML Events//EN
CALSCALE:GREGORIAN
X-WR-CALNAME:POL 300b – On Post-Transhumanism - Events
X-ORIGINAL-URL:https://openlabdev.commonsinabox.org/groups/pol-300b-on-post-transhumanism/events/
X-WR-CALDESC:POL 300b – On Post-Transhumanism - Events
BEGIN:VEVENT
UID:20230809T0232Z-1691548358.8417-EO-69691-1@146.96.128.200
STATUS:TENTATIVE
DTSTAMP:20260424T125344Z
CREATED:20230723T214137Z
LAST-MODIFIED:20230723T214137Z
DTSTART:20230723T220000Z
DTEND:20230723T230000Z
SUMMARY: Private: Test event
DESCRIPTION: Do you see this?
X-ALT-DESC;FMTTYPE=text/html: <p>Do you see this?</p>
ORGANIZER;CN="Professor Tesla":MAILTO:cbox.openlab.test+testfaculty@gmail.c
 om
URL;VALUE=URI:https://openlabdev.commonsinabox.org/?post_type=event&p=69691
END:VEVENT
END:VCALENDAR
