BEGIN:VCALENDAR
VERSION:2.0
PRODID:-//Mobile project//NONSGML Events//EN
CALSCALE:GREGORIAN
X-WR-CALNAME:Mobile project - Events
X-ORIGINAL-URL:https://openlabdev.commonsinabox.org/groups/mmobile-projectobil/events/
X-WR-CALDESC:Mobile project - Events
BEGIN:VEVENT
UID:20180720T1545Z-1532101533.4769-EO-1713-1@146.96.128.253
STATUS:CONFIRMED
DTSTAMP:20260426T024911Z
CREATED:20180720T152959Z
LAST-MODIFIED:20180720T152959Z
DTSTART:20180720T153000Z
DTEND:20180720T163000Z
SUMMARY: After party
DESCRIPTION: after the party it’s the after party
X-ALT-DESC;FMTTYPE=text/html: <p>after the party it’s the after party</p>
LOCATION:the hotel lobby
GEO:0;0
ORGANIZER;CN="Cosmo Ortiz":MAILTO:cbox.openlab.test+teststudent@gmail.com
URL;VALUE=URI:https://openlabdev.commonsinabox.org/events/event/after-party
 /
END:VEVENT
BEGIN:VEVENT
UID:20180724T2309Z-1532473794.7722-EO-1714-1@146.96.128.253
STATUS:CONFIRMED
DTSTAMP:20260426T024911Z
CREATED:20180720T154657Z
LAST-MODIFIED:20180720T155044Z
DTSTART:20180720T160000Z
DTEND:20180720T170000Z
RRULE:FREQ=DAILY;INTERVAL=1;UNTIL=20180720T160000Z
SUMMARY: Recurring event
DESCRIPTION: it just keeps going
X-ALT-DESC;FMTTYPE=text/html: <p>it just keeps going</p>
ORGANIZER;CN="Professor Tesla":MAILTO:cbox.openlab.test+testfaculty@gmail.c
 om
URL;VALUE=URI:https://openlabdev.commonsinabox.org/events/event/recurring-e
 vent-2/
END:VEVENT
BEGIN:VEVENT
UID:20180720T1545Z-1532101554.2879-EO-1711-1@146.96.128.253
STATUS:CONFIRMED
DTSTAMP:20260426T024911Z
CREATED:20180720T152013Z
LAST-MODIFIED:20180720T152013Z
DTSTART:20180720T180000Z
DTEND:20180720T220000Z
SUMMARY: Party
DESCRIPTION: its party time
X-ALT-DESC;FMTTYPE=text/html: <p>its party time</p>
LOCATION:You house
GEO:0;0
ORGANIZER;CN="Professor Tesla":MAILTO:cbox.openlab.test+testfaculty@gmail.c
 om
URL;VALUE=URI:https://openlabdev.commonsinabox.org/events/event/party/
END:VEVENT
END:VCALENDAR
