BEGIN:VCALENDAR
VERSION:2.0
PRODID:-//Hegel and Marx: logical studies//NONSGML Events//EN
CALSCALE:GREGORIAN
X-WR-CALNAME:Hegel and Marx: logical studies - Events
X-ORIGINAL-URL:https://openlabdev.commonsinabox.org/groups/hegel-and-marx-logical-studies/events/
X-WR-CALDESC:Hegel and Marx: logical studies - Events
BEGIN:VEVENT
UID:20210725T2255Z-1627253745.5059-EO-68998-1@146.96.128.200
STATUS:CONFIRMED
DTSTAMP:20260424T171350Z
CREATED:20210724T031100Z
LAST-MODIFIED:20210724T031100Z
DTSTART:20210724T033000Z
DTEND:20210724T043000Z
RRULE:FREQ=WEEKLY;INTERVAL=1;BYDAY=SA;UNTIL=20210807T033000Z
SUMMARY: New event
DESCRIPTION: Class quizz
X-ALT-DESC;FMTTYPE=text/html: <p>Class quizz</p>
ORGANIZER;CN="Professor Tesla":MAILTO:cbox.openlab.test+testfaculty@gmail.c
 om
URL;VALUE=URI:https://openlabdev.commonsinabox.org/events/event/new-event-2
 /
END:VEVENT
BEGIN:VEVENT
UID:20210725T2255Z-1627253745.5059-EO-68998-1@146.96.128.200
STATUS:CONFIRMED
DTSTAMP:20260424T171350Z
CREATED:20210724T031100Z
LAST-MODIFIED:20210724T031100Z
DTSTART:20210724T033000Z
DTEND:20210724T043000Z
RRULE:FREQ=WEEKLY;INTERVAL=1;BYDAY=SA;UNTIL=20210807T033000Z
SUMMARY: New event
DESCRIPTION: Class quizz
X-ALT-DESC;FMTTYPE=text/html: <p>Class quizz</p>
ORGANIZER;CN="Professor Tesla":MAILTO:cbox.openlab.test+testfaculty@gmail.c
 om
URL;VALUE=URI:https://openlabdev.commonsinabox.org/events/event/new-event-2
 /
END:VEVENT
BEGIN:VEVENT
UID:20210725T2255Z-1627253745.5059-EO-68998-1@146.96.128.200
STATUS:CONFIRMED
DTSTAMP:20260424T171350Z
CREATED:20210724T031100Z
LAST-MODIFIED:20210724T031100Z
DTSTART:20210724T033000Z
DTEND:20210724T043000Z
RRULE:FREQ=WEEKLY;INTERVAL=1;BYDAY=SA;UNTIL=20210807T033000Z
SUMMARY: New event
DESCRIPTION: Class quizz
X-ALT-DESC;FMTTYPE=text/html: <p>Class quizz</p>
ORGANIZER;CN="Professor Tesla":MAILTO:cbox.openlab.test+testfaculty@gmail.c
 om
URL;VALUE=URI:https://openlabdev.commonsinabox.org/events/event/new-event-2
 /
END:VEVENT
END:VCALENDAR
