BEGIN:VCALENDAR
VERSION:2.0
PRODID:-//Games//NONSGML Events//EN
CALSCALE:GREGORIAN
X-WR-CALNAME:Games - Events
X-ORIGINAL-URL:https://openlabdev.commonsinabox.org/groups/games/events/
X-WR-CALDESC:Games - Events
BEGIN:VEVENT
UID:20171014T2329Z-1508023743.0531-EO-725-1@146.96.128.253
STATUS:CONFIRMED
DTSTAMP:20260421T154224Z
CREATED:20171014T201126Z
LAST-MODIFIED:20171014T201126Z
DTSTART;VALUE=DATE:20171014
DTEND;VALUE=DATE:20171015
SUMMARY: flip
DESCRIPTION: flop
X-ALT-DESC;FMTTYPE=text/html: <p>flop</p>
ORGANIZER;CN="Alexander Trelawney":MAILTO:boonebgorges+openlabdev_admin@gma
 il.com
URL;VALUE=URI:https://openlabdev.commonsinabox.org/events/event/flip/
END:VEVENT
BEGIN:VEVENT
UID:20171014T2329Z-1508023743.0642-EO-724-1@146.96.128.253
STATUS:CONFIRMED
DTSTAMP:20260421T154224Z
CREATED:20171014T201109Z
LAST-MODIFIED:20171014T201109Z
DTSTART;VALUE=DATE:20171019
DTEND;VALUE=DATE:20171020
SUMMARY: Ping
DESCRIPTION: pong
X-ALT-DESC;FMTTYPE=text/html: <p>pong</p>
ORGANIZER;CN="Alexander Trelawney":MAILTO:boonebgorges+openlabdev_admin@gma
 il.com
URL;VALUE=URI:https://openlabdev.commonsinabox.org/events/event/ping/
END:VEVENT
END:VCALENDAR
