BEGIN:VCALENDAR
VERSION:2.0
PRODID:-//Jan 2023 Test Course//NONSGML Events//EN
CALSCALE:GREGORIAN
X-WR-CALNAME:Jan 2023 Test Course - Events
X-ORIGINAL-URL:https://openlabdev.commonsinabox.org/groups/first-test-course-for-jan-2023-testing/events/
X-WR-CALDESC:Jan 2023 Test Course - Events
BEGIN:VEVENT
UID:20221221T1643Z-1671641005.3279-EO-69357-1@146.96.128.200
STATUS:CONFIRMED
DTSTAMP:20260420T124734Z
CREATED:20221221T164257Z
LAST-MODIFIED:20221221T164257Z
DTSTART:20221223T150000Z
DTEND:20221223T160000Z
SUMMARY: Event 1
DESCRIPTION: Estne\, quaeso\, inquam\, sitienti in bibendo voluptas? Sumend
 a potius quam expetenda. Que Manilium\, ab iisque M. Hic nihil fuit\, quod 
 quaereremus. Vitiosum est enim in dividendo partem in genere numerare. Nihi
 l enim iam habes\, quod ad corpus referas\; Ergo in utroque exercebantur\, 
 eaque disciplina effecit tantam illorum utroque in genere dicendi copiam.
X-ALT-DESC;FMTTYPE=text/html: <p>Estne\, quaeso\, inquam\, sitienti in bibe
 ndo voluptas? <strong>Sumenda potius quam expetenda.</strong> Que Manilium\
 , ab iisque M. Hic nihil fuit\, quod quaereremus.</p><ol><li>Vitiosum est e
 nim in dividendo partem in genere numerare.</li><li>Nihil enim iam habes\, 
 quod ad corpus referas\;</li><li>Ergo in utroque exercebantur\, eaque disci
 plina effecit tantam illorum utroque in genere dicendi copiam.</li></ol>
ORGANIZER;CN="Professor Tesla":MAILTO:cbox.openlab.test+testfaculty@gmail.c
 om
URL;VALUE=URI:https://openlabdev.commonsinabox.org/events/event/event-1/
END:VEVENT
END:VCALENDAR
