BEGIN:VCALENDAR
VERSION:2.0
PRODID:-//Calendar Project//NONSGML Events//EN
CALSCALE:GREGORIAN
X-WR-CALNAME:Calendar Project - Events
X-ORIGINAL-URL:https://openlabdev.commonsinabox.org/groups/calendar-project/events/
X-WR-CALDESC:Calendar Project - Events
BEGIN:VEVENT
UID:20171014T0000Z-1507939227.873-EO-582-1@146.96.128.253
STATUS:CONFIRMED
DTSTAMP:20260426T012836Z
CREATED:20171010T192606Z
LAST-MODIFIED:20171010T192606Z
DTSTART:20171010T193000Z
DTEND:20171010T203000Z
SUMMARY: Test Event
DESCRIPTION: can this be edited by faculty
X-ALT-DESC;FMTTYPE=text/html: <p>can this be edited by faculty</p>
ORGANIZER;CN="Cosmo Ortiz":MAILTO:cbox.openlab.test+teststudent@gmail.com
URL;VALUE=URI:https://openlabdev.commonsinabox.org/events/event/test-event/
END:VEVENT
BEGIN:VEVENT
UID:20171014T0202Z-1507946548.6302-EO-632-1@146.96.128.253
STATUS:CONFIRMED
DTSTAMP:20260426T012836Z
CREATED:20171011T232919Z
LAST-MODIFIED:20171011T232919Z
DTSTART:20171014T113000Z
DTEND:20171014T123000Z
SUMMARY: collosol event
DESCRIPTION: You will love it
X-ALT-DESC;FMTTYPE=text/html: <p>You will love it</p>
ORGANIZER;CN="Cosmo Ortiz":MAILTO:cbox.openlab.test+teststudent@gmail.com
URL;VALUE=URI:https://openlabdev.commonsinabox.org/events/event/collosol-ev
 ent/
END:VEVENT
END:VCALENDAR
